BEGIN:VCALENDAR
VERSION:2.0
PRODID:Spatie calendar-links
BEGIN:VEVENT
UID:945fefe64f53820175be0474e7302399
SUMMARY:10. JHaS-Kongress 2021
DTSTAMP;TZID=e:20210410T080000
DTSTART;TZID=e:20210410T080000
DTEND;TZID=e:20210410T170000
X-ALT-DESC;FMTTYPE=text/html:Liebe Kolleginnen\, liebe Kollegen\n\nVielen Dank für Dein Verständnis bezüglich der Online-Durchführung des JHaS-Kongresses aufgrund der COVID-19-Pandemie und die in diesem Zusammenhang getroffenen Massnahmen. Wir arbeiten derzeit an der Aktualisierung aller relevanten Informationen für den 10. JHaS-Kongress\, der nun am 10. April 2021 live aus der Universität Fribourg gestreamt wird. Wir freuen uns schon jetzt\, dass wir den grössten Teil des ursprünglich geplanten Programms übernehmen werden\, worauf Du Dich mit uns freuen kannst!\n\nMit dem Motto «Now\, more than ever!» werden wir unterstreichen\, dass wir engagierter sind als je zuvor.\n\nJunge Hausärztinnen und -ärzte Schweiz\n\n\n\nhttps://mymedworld.ch/events/10-jhaskongress-2021\n
LOCATION:online\n
END:VEVENT
END:VCALENDAR